BEGIN:VCALENDAR
VERSION:2.0
PRODID:-//147.100.242.15//NONSGML kigkonsult.se iCalcreator 2.41.92//
CALSCALE:GREGORIAN
UID:62666562-3537-4831-b861-396335666438
X-WR-TIMEZONE:Europe/Paris
BEGIN:VTIMEZONE
TZID:Europe/Paris
TZUNTIL:20261025T010000Z
BEGIN:STANDARD
TZNAME:CET
DTSTART:20241027T030000
TZOFFSETFROM:+0200
TZOFFSETTO:+0100
RDATE:20251026T030000
END:STANDARD
BEGIN:DAYLIGHT
TZNAME:CEST
DTSTART:20240331T020000
TZOFFSETFROM:+0100
TZOFFSETTO:+0200
RDATE:20250330T020000
RDATE:20260329T020000
END:DAYLIGHT
END:VTIMEZONE
BEGIN:VEVENT
UID:39346336-3338-4361-b338-316136303835
DTSTAMP:20260425T143702Z
DTSTART:20250205T080000Z
DTEND:20250207T160000Z
LOCATION:Campus Teatinos\, Blvr. Louis Pasteur\, 32\, Puerto de la Torre\, 
 29010 Málaga\, Espagne
SUMMARY:2nd  Fermented Foods Forum - Málaga\, Spain
URL:https://eng-2ndforumfermentedfood.colloque.inrae.fr
END:VEVENT
END:VCALENDAR
